BEGIN:VCALENDAR
VERSION:2.0
PRODID:-//wp-events-plugin.com//7.2.3.1//EN
TZID:America/New_York
X-WR-TIMEZONE:America/New_York
BEGIN:VEVENT
UID:797@clubdimension.org
DTSTART:20230218T140000Z
DTEND:20230218T163000Z
DTSTAMP:20230124T202240Z
URL:https://www.clubdimension.org/evenements/introduction-a-photoshop/
SUMMARY:Introduction à Photoshop
DESCRIPTION:Le logiciel Adobe Photoshop est un logiciel reconnu et très
 performant pour créer des images à plusieurs couches et pour retoucher de
 façon très précise vos photos. Par contre pour un débutant\, son
 utilisation peut paraître complexe.\n\nUne formation de base vous sera
 offerte par Jocelyn Jeffrey afin de connaître les fonctions de base du
 logiciel Photoshop. Pendant ce cours\, vous apprendrez à&nbsp\;:\n\n-
 Différencier les logiciels Photoshop (PS) &nbsp\;et Lightroom
 (LR)\n\n-Ouvrir une ou des images dans PS\n\n- Comprendre l’environnement
 de travail de PS\n\n- Identifier les différents menus dans PS\n\n-
 Comprendre et à utiliser les calques de réglage et leurs différents
 modes de fusion\n\n- Comprendre et à utiliser les masques de fusion et
 leurs utilités\n\n- Différencier les filtres (dont filtre fluidité)\n\n-
 Utiliser les principaux outils de corrections\n\n- Utiliser les principaux
 raccourcis\n\nCette formation virtuelle sera offerte par Zoom le samedi 18
 février 2023 de 9hres à 11h30.\n\n&nbsp\;Les inscriptions se dérouleront
 à compter du dimanche 22 janvier 19h00 jusqu'au 17 février midi.
CATEGORIES:Activités
END:VEVENT
END:VCALENDAR