BEGIN:VCALENDAR
VERSION:2.0
PRODID:-//wp-events-plugin.com//7.2.3.1//EN
TZID:America/New_York
X-WR-TIMEZONE:America/New_York
BEGIN:VEVENT
UID:452@clubdimension.org
DTSTART:20181127T000000Z
DTEND:20181127T020000Z
DTSTAMP:20180626T223616Z
URL:https://www.clubdimension.org/evenements/initiation-a-lightroom-automn
 e-2018-2018-11-26/
SUMMARY:Initiation à Lightroom (automne 2018)
DESCRIPTION:Professeur :\nRémy Weber\n&nbsp\;\nContenu du cours :\n\n 	Se
 retrouver dans l'interface de Lightroom\,\n 	Concepts et principes de base
 du logiciel\,\n 	Flux de travail\,\n 	Visualisation\,\n
 	Personnalisation\,\n 	Organisation\,\n 	Développement\,\n 	Retouches et
 ajustements\,\n 	Partage (exportation\, impression\, ...)\,\n
 	Sauvegarde.\n\n&nbsp\;\nCalendrier des cours&nbsp\;:\n\n 	5
 novembre&nbsp\;2018\n 	12 novembre&nbsp\;2018\n 	19 novembre&nbsp\;2018\n
 	26 novembre&nbsp\;2018\n
LOCATION:Domaine de Maizerets (salle 203)\, 2000 boulevard Montmorency\,
 Québec\, Québec\, G1J 5E7\, Canada
GEO:46.8364258;-71.21591139999998
X-APPLE-STRUCTURED-LOCATION;VALUE=URI;X-ADDRESS=2000 boulevard
 Montmorency\, Québec\, Québec\, G1J 5E7\,
 Canada;X-APPLE-RADIUS=100;X-TITLE=Domaine de Maizerets (salle
 203):geo:46.8364258,-71.21591139999998
END:VEVENT
END:VCALENDAR