BEGIN:VCALENDAR
VERSION:2.0
PRODID:-//wp-events-plugin.com//7.2.3.1//EN
TZID:America/New_York
X-WR-TIMEZONE:America/New_York
BEGIN:VEVENT
UID:907@clubdimension.org
DTSTART;TZID=America/New_York;VALUE=DATE:20251115
DTEND;TZID=America/New_York;VALUE=DATE:20251116
DTSTAMP:20251017T135534Z
URL:https://www.clubdimension.org/evenements/help-portrait-5/
SUMMARY:Help Portrait
DESCRIPTION:L'activité HELP PORTRAIT revient à nouveau cette année pour
 une 12&nbsp\;e&nbsp\;édition le samedi 15 novembre 2025 au Patro Le Pivot
 à Beauport. &nbsp\;\nCette année\, il y aura 4 studios. Les chefs de
 studio de l’édition 2024 sont de retour pour l’édition 2025. Nous les
 remercions. C’est une précieuse collaboration\, car ces derniers
 fournissent tout l’équipement nécessaire au bon fonctionnement du
 studio.\nPlusieurs membres de leur équipe respective sont également de
 retour. Pour l’édition 2025\, il y aura trois postes vacants de
 photographe.\nL’équipe logistique joue un rôle important lors de cette
 journée.&nbsp\; Il y aura 10 postes disponibles pour assurer l’accueil
 des familles et le bon déroulement des séances photos.\nLes inscriptions
 pour participer en tant que bénévole à l’activité Help portrait se
 dérouleront du lundi 13 octobre 2025 à compter de 8h00 jusqu’au 19
 octobre 23h45.\nLors de votre inscription\, vous devrez choisir le billet
 qui correspond à la fonction&nbsp\;que vous souhaitez occuper
 (photographe\, logistique).\nMario Walker et Elisabeth Morin\n&nbsp\;
CATEGORIES:Activités
END:VEVENT
BEGIN:VTIMEZONE
TZID:America/New_York
X-LIC-LOCATION:America/New_York
BEGIN:STANDARD
DTSTART:20251102T010000
TZOFFSETFROM:-0400
TZOFFSETTO:-0500
TZNAME:EST
END:STANDARD
END:VTIMEZONE
END:VCALENDAR