BEGIN:VCALENDAR
VERSION:2.0
PRODID:-//wp-events-plugin.com//7.2.3.1//EN
TZID:America/New_York
X-WR-TIMEZONE:America/New_York
BEGIN:VEVENT
UID:565@clubdimension.org
DTSTART:20200111T140000Z
DTEND:20200111T170000Z
DTSTAMP:20191204T153011Z
URL:https://www.clubdimension.org/evenements/hdr-faites-vibrer-vos-images/
SUMMARY:HDR: Faites vibrer vos images!
DESCRIPTION:David Boutin offre un atelier/formation sur la photo HDR ou
 grande gamme dynamique.\n&nbsp\;\nCet atelier se déroulant en 3 étapes
 s'adresse à tous photographes\, débutants comme
 experts.&nbsp\;\nPré-requis : comprendre les bases de la photographie
 (ISO\, ouverture\, vitesse d'obturation).\n&nbsp\;\nDate et lieu\nDomaine
 Maizerets le 11 Janvier de 9h00 à 12h00.\nLocal à confirmer.\n*Remis au
 lendemain en cas de mauvais temps\n**Maximum de 20
 participants\n&nbsp\;\nMatériel requis:\n- Des vêtements chauds vous
 permettant de prendre des photos à l'extérieur\n- Votre appareil photo\n-
 De quoi prendre des notes\n&nbsp\;\nMatériel recommandé mais pas
 obligatoire:\n- Un trépied\n- Un ordinateur portable avec la pile
 chargée\, ainsi qu'un logiciel de traitement HDR tel que Aurora\, Easy
 HDR\, Photomatix PRO\, Lightroom\, etc.\nVous n'avez pas de portable? Aucun
 problème! Vous pourrez tout de même bénéficier de la formation car je
 pourrai travailler quelques photos pour vous donner un exemple.\n- 3 photos
 RAW sur clé USB (informations plus bas)\n&nbsp\;\nL'atelier:\n&nbsp\;\n1-
 Première étape - La formation\nQu'est-ce que la gamme dynamique? Quelles
 sont ses limites? Comment les dépasser?\nLes logiciels utilisés lors de
 la formation :Lightroom et Photomatix. Si vous ne possédez pas ces
 logiciels\, vous pourrez quand-même apprivoiser les concepts
 présentés.\n&nbsp\;\n2- Deuxième étape: Prise de photos sur le
 terrain\nNous sortirons à l'extérieur prendre quelques photos selon les
 modes/paramètres choisis pouvant favoriser le HDR.\n&nbsp\;\n3- Troisième
 étape: Atelier d'édition d'images\n\nDe retour à l'intérieur\, sortez
 vos portables! Je vous guiderai à travers l'expérience des notions
 apprises en retouchant les photos à notre disposition. Puisque le HDR se
 prête très bien aux photos plus colorées\, je vous invite aussi à
 apporter avec vous une sélection de 3 de vos meilleures photos en format
 RAW. J'aurai l'opportunité de faire une démonstration sur quelques unes
 de vos photos.\n&nbsp\;\nInscription\n20 places sont disponibles.&nbsp\;
 N'oubliez de vous connecter pour avoir accès aux inscriptions qui sont
 ouvertes dès le 11 décembre à 21h00.
CATEGORIES:Ateliers
END:VEVENT
END:VCALENDAR