BEGIN:VCALENDAR
VERSION:2.0
PRODID:-//wp-events-plugin.com//7.2.3.1//EN
TZID:America/New_York
X-WR-TIMEZONE:America/New_York
BEGIN:VEVENT
UID:743@clubdimension.org
DTSTART;TZID=America/New_York:20220404T190000
DTEND;TZID=America/New_York:20220404T210000
DTSTAMP:20220301T151041Z
URL:https://www.clubdimension.org/evenements/groupe-dinteret-lightroom-11-
 2/
SUMMARY:Groupe d'intérêt - Lightroom 11- Groupe 2
DESCRIPTION:Le projet mentorat offert aux membres durant l’hiver 2021 et
 l’automne 2021 se réinvente à l’hiver 2022.  Il prendra la forme de
 groupes d’intérêt autour du sujet Les masques dans Lightroom 11.  Le
 mentor offrira une séance d’une heure à une heure et demie pour
 présenter la technique d’utilisation des masques dans Lightroom 11 à un
 groupe de six personnes. Puis\, les participants seront invités à
 pratiquer les notions apprises et à noter leurs questions.  Ensuite\, une
 rencontre individuelle ou en petits groupes de 2 entre le mentor et les
 participants sera tenue afin de répondre aux questions des
 participants.\n\nCes rencontres se tiendront en mode virtuel pour les
 membres réguliers seulement:\n\n 	Groupe 1 : le mercredi 30 mars à 19h00
 (6 participants)\n 	Groupe 2 : le lundi 4 avril à 19h00 (6
 participants)\n\nLes inscriptions ouvrent à partir du 7 mars 2022\, 7h00
 sur la page Web du Club\n\nInformation :
 activites@clubdimension.org\n\n&nbsp\;
END:VEVENT
BEGIN:VTIMEZONE
TZID:America/New_York
X-LIC-LOCATION:America/New_York
BEGIN:DAYLIGHT
DTSTART:20220313T030000
TZOFFSETFROM:-0500
TZOFFSETTO:-0400
TZNAME:EDT
END:DAYLIGHT
END:VTIMEZONE
END:VCALENDAR