BEGIN:VCALENDAR
VERSION:2.0
PRODID:-//wp-events-plugin.com//7.2.3.1//EN
TZID:America/New_York
X-WR-TIMEZONE:America/New_York
BEGIN:VEVENT
UID:649@clubdimension.org
DTSTART;TZID=America/New_York:20210130T090000
DTEND;TZID=America/New_York:20210130T150000
DTSTAMP:20210129T180244Z
URL:https://www.clubdimension.org/evenements/formation-logiciel-luminar/
SUMMARY:Formation logiciel LUMINAR
DESCRIPTION:Formation logiciel LUMINAR via Zoom\, par Michèle Grenier\,
 photographe professionnelle\n\nPlusieurs membres nous ont partagés vouloir
 explorer des logiciels de traitement autre que ceux de la suite Adobe et
 qu’il serait intéressant d’avoir une formation. Le logiciel qui est
 sorti en tête du peloton est Luminar de Skylum.\n\nLuminar peut être
 utilisé comme extension (plugin) de Lightroom et Photoshop ou encore comme
 seul logiciel de traitement (stand alone). Luminar est disponible en
 formule «&nbsp\;achat&nbsp\;» et non pas en formule
 «&nbsp\;abonnement&nbsp\;» comme d’autres solutions.\n\nLe 15
 décembre\, Skylum présentera une nouvelle version\, soit Luminar AI ou
 l’intelligence artificielle sera davantage utilisé pour proposer un
 logiciel très performant au niveau du traitement des images.\n\nLa
 formation sera offerte par la dynamique Michèle Grenier\, photographe
 professionnelle et aussi ambassadrice Skylum\, dont nous avons déjà eu le
 plaisir de recevoir au club.\nhttps://michelegrenierphoto.com/fr/\n\n[video
 width="1920" height="1080"
 mp4="http://www.clubdimension.org/wp-content/uploads/2020/12/FormationLumin
 arAI_Michele-Grenier.mp4"][/video]\n\nCette formation sera offerte en ligne
 en deux blocs. Voici le plan des deux rencontres&nbsp\;:\n\nBloc 1 - Samedi
 30 janvier (9h à 11h) et (13h à 15h)\nDeux (2) heures de découverte du
 logiciel:\n- Workspace (panneaux&nbsp\;Catalogue\, Modèles\,
 Édition&nbsp\;et&nbsp\;Exporter)\n- Les avantages de l’IA et comment en
 tirer profit\n-&nbsp\;Exemple d’un flux de travail (Importation &gt\;
 Traitement &gt\; Exportation)\n- Exemple du traitement
 d’images&nbsp\;\n-&nbsp\;Fonctionnalité des outils (Outils de base /
 Créatif / Portrait / Professionnel)\n- Comment sauvegarder ses propres
 Modèles\n\nBloc 2 - Samedi 6 février (9h à 11h) et (13h à 15h)\nDeux
 (2) heures de suivi avec questions/réponses et exemples supplémentaires
 de traitement de photo des participants (les participants qui le désirent
 pourront préalablement envoyer une photo par courriel pour voir le flux de
 travail de Michèle!)\n\nINSCRIPTION OBLIGATOIRE&nbsp\;:\nCoût par
 personne: 40$ (inclus les 2 blocs)\n\nPriorité réservée aux membres du
 club jusqu’au 13 janvier 2021\, ensuite des non-membres pourront
 s'inscrire s'il reste de la place.\nMinimum d’inscriptions : 12\nMaximum
 d’inscriptions&nbsp\;: 20\nSi la demande le justifie\, un deuxième
 groupe pourrait être créé\nAucun remboursement ne sera possible lorsque
 le paiement est effectué sauf en cas d’annulation de la part du Club de
 photo Dimension (ex&nbsp\;: empêchement du formateur). Par contre\, il
 sera possible pour le participant de trouver lui-même un
 remplaçant.\n\nNotes et précisions&nbsp\;:\n* La formation portera sur la
 version AI\, soit la dernière version\n* Il n’est pas obligatoire
 d’avoir acheté au préalable le logiciel Luminar. Vous pourriez assister
 aux deux blocs afin de bien le découvrir sans obligatoirement en faire
 l’essai\, quoiqu’il plus formateur de l’expérimenter.\n* Si vous
 souhaitez l’acquérir\, Michèle dispose d’un lien d’affiliation que
 voici&nbsp\;: https://skylum.evyy.net/6vkBq\n\nQuestions ou difficulté
 avec les inscriptions&nbsp\;: vp@clubdimension.org
CATEGORIES:Ateliers,Cours
END:VEVENT
BEGIN:VTIMEZONE
TZID:America/New_York
X-LIC-LOCATION:America/New_York
BEGIN:STANDARD
DTSTART:20201101T010000
TZOFFSETFROM:-0400
TZOFFSETTO:-0500
TZNAME:EST
END:STANDARD
END:VTIMEZONE
END:VCALENDAR