BEGIN:VCALENDAR
VERSION:2.0
PRODID:-//wp-events-plugin.com//7.2.3.1//EN
TZID:America/New_York
X-WR-TIMEZONE:America/New_York
BEGIN:VEVENT
UID:783@clubdimension.org
DTSTART:20230114T140000Z
DTEND:20230114T160000Z
DTSTAMP:20221115T141531Z
URL:https://www.clubdimension.org/evenements/formation-hdr/
SUMMARY:Formation HDR
DESCRIPTION:15Dans la nature\, l’œil humain est capable de distinguer
 d’infimes nuances d’ombres et lumières. Cette capacité à discerner
 l’écart entre les zones claires et foncées est nommée « plage
 dynamique ». Infiniment plus performants que les capteurs présents dans
 nos appareils numériques\, nos yeux\, transmettent des informations pas
 toujours exploitables lors de la capture et la restitution de l’image.
 Alors\, pour pallier à ce manque\, la photo HDR est la solution. Cette
 technique permet ainsi de surpasser et d’optimiser au maximum les
 capacités de l’appareil photo\, en mettant en avant cette grande plage
 dynamique lumineuse perçue par l’homme.\n\nCette formation virtuelle
 sera diffusée en 2 parties par David Boutin.\n\n1ière partie diffusée
 samedi le 14 janvier 2023 de 9 hres à 11 hres :\n\nDécouvrir ce qu’est
 le HDR\n\n 	Comprendre le processus\n 	Démonstration\n\n2ième
 partie&nbsp\; diffusée mercredi le 1er février 2023 de 19 hres à 21
 hres\n\nRetour sur les essais des gens et réponse aux questions\n\n&nbsp\;
CATEGORIES:Activités
END:VEVENT
END:VCALENDAR