BEGIN:VCALENDAR
VERSION:2.0
PRODID:-//wp-events-plugin.com//7.2.3.1//EN
TZID:America/New_York
X-WR-TIMEZONE:America/New_York
BEGIN:VEVENT
UID:821@clubdimension.org
DTSTART:20231116T000000Z
DTEND:20231116T023000Z
DTSTAMP:20231101T121410Z
URL:https://www.clubdimension.org/evenements/formation-catalogue-lightroom
 /
SUMMARY:Formation Catalogue Lightroom
DESCRIPTION:Outre ses autres qualités Lightroom demeure la référence de
 la gestion d'une photothèque à laquelle se mesure tous les autres
 logiciels de traitement photo.\n\nCette formation présente une approche
 pour optimiser l'utilisation des catalogues de Lightroom et à rendre la
 vie plus facile dans la gestion des photos.\n\nNous aborderons les thèmes
 suivants :\n\n 	les notions de base du catalogue\n 	l’utilisation des
 répertoires spécifiques afin de se faciliter la vie avec Lightroom\n 	les
 préréglages à l'importation et leur utilisation\n 	les mots-clés et
 autres outils utiles\n 	les collections\n\nAfin de profiter de cette
 formation\, le participant doit :\n\n 	maîtriser la navigation dans les
 répertoires de l'ordinateur\n 	maîtriser la création de répertoires et
 de fichiers\n 	avoir le logiciel Lightroom installé sur son poste de
 travail\n\nNote importante&nbsp\;: À noter qu’aucun soutien ne sera
 apporté à toute personne qui ne serait pas en mesure de procéder aux
 consignes de navigation dans les répertoires et création de fichiers afin
 de ne pas retarder la présentation du contenu. Si vous ne détenez pas ces
 habiletés\, veuillez ne pas vous inscrire à cette formation.\n\nPériode
 d'inscription : À partir du 26 octobre 2023 à 19 hres jusqu'au 11
 novembre à 23h45
CATEGORIES:Activités
END:VEVENT
END:VCALENDAR