BEGIN:VCALENDAR
VERSION:2.0
PRODID:-//wp-events-plugin.com//7.2.3.1//EN
TZID:America/New_York
X-WR-TIMEZONE:America/New_York
BEGIN:VEVENT
UID:814@clubdimension.org
DTSTART:20231029T051500Z
DTEND:20231030T044500Z
DTSTAMP:20231022T193106Z
URL:https://www.clubdimension.org/evenements/fin-defi-photo-inusite-dun-en
 droit-connu/
SUMMARY:FIN DÉFI Photo inusité d'un endroit connu
DESCRIPTION:DÉFI Photo inusitée d’un endroit
 connu&nbsp\;&nbsp\;&nbsp\;&nbsp\;&nbsp\;&nbsp\;&nbsp\;&nbsp\;&nbsp\;&nbsp\;
 &nbsp\;&nbsp\;&nbsp\;&nbsp\;&nbsp\;&nbsp\;&nbsp\; \nEntre le 24 septembre
 et le 29 octobre 2023\, nous vous proposons un nouveau défi
 photographique&nbsp\;qui vous demandera de sortir de votre zone de confort.
 On relèvera le Défi Photo inusitée d’un endroit connu ! On vous
 demande de photographier un endroit ou un bâtiment connu mais en gardant
 en tête qu’on doit user de créativité et d’originalité. On vous
 demande de trouver un nouvel angle\, ou mettre l’accent ou le focus sur
 un détail\, ou de mettre l’accent sur autre chose que sur l’endroit ou
 sur le bâtiment connu. Même si c’est un endroit ou un bâtiment connu
 largement photographié\, il faut voir à l’originalité de la photo que
 l’on veut faire. Enlever le superflu et mettre l’accent sur ce qui nous
 enchante. Toutefois\, il faut quand même sentir ou reconnaître
 l’endroit ou le bâtiment connu.\nDéfis à relever\nUn maximum de trois
 photos\, obligatoirement prises entre le 24 septembre et le 29 octobre
 2023.\nSoyons originaux et créatifs. Vous pouvez n’avoir qu’un seul
 sujet (bâtiment ou endroit connu) pour chacune des 3 possibilités ou
 points de vue ou des sujets (bâtiment ou endroit connu) différents.\n\n\n
 	Possibilités ou points de vue&nbsp\;:\n\n\n 	\n\n 	Contre-plongée ou
 plongée\n 	Photo rapprochée\n 	Texture\n 	Accent sur un détail caché\n
 	Jouer avec le focus\n 	Profondeur de champ\n 	Flou d’arrière-champ\n
 	Tout autre façon originale\n\n\n\n&nbsp\;\nRemise des photos\nDate de
 tombée&nbsp\;:&nbsp\;&nbsp\;&nbsp\;&nbsp\;&nbsp\;&nbsp\;&nbsp\;&nbsp\;
 Dimanche 29 octobre 2023 23h59\nExpédition&nbsp\;:
 &nbsp\;&nbsp\;&nbsp\;&nbsp\;&nbsp\;&nbsp\;&nbsp\;&nbsp\;&nbsp\;&nbsp\;&nbsp
 \;&nbsp\;&nbsp\;&nbsp\;&nbsp\; Les photos doivent être transmises par
 WeTransfer à l’adresse defis@clubdimension.org\nCritères&nbsp\;:
 &nbsp\;&nbsp\;&nbsp\;&nbsp\;&nbsp\;&nbsp\;&nbsp\;&nbsp\;&nbsp\;&nbsp\;&nbsp
 \;&nbsp\;&nbsp\;&nbsp\;&nbsp\;&nbsp\;&nbsp\;&nbsp\;&nbsp\;&nbsp\; Respecter
 le format habituel d’exportation (1080/1920 px) Max 1080 px de
 hauteur.\n&nbsp\;\nIdentification des photos avant l’expédition&nbsp\;:
 &nbsp\; \nChaque participant est invité à transmettre un maximum de 3
 photos\, une photo par point de vue ou possibilité. Vous pouvez
 transmettre qu’une ou deux photos\, mais chacune d’elle(s) ne doit
 répondre qu’à un point de vue ou possibilité.\nVous devez donner un
 titre à la photo et\, pour faciliter un futur montage\, il est demandé
 d’identifier vos fichiers photos avec votre nom\, du titre de la photo et
 des exifs.\nAinsi une photo pour le premier de la liste des défis
 serait&nbsp\;:\nnom_prénom_titre_de_la_photo_ISO100_18mm_f8_1_100s.jpeg\nN
 ous vous suggérons d’ajouter un filigrane ou signature à vos photos
 pour faciliter l’identification.\n&nbsp\;\nRetour sur l’exercice\nLors
 de l’envoi de vos photos\, veuillez indiquer votre intérêt à
 participer à une activité de mise en commun des images avec les autres
 participants le samedi 11 novembre 2023 à 9h30.\nAucune limite de
 participants. Aucune inscription requise.
CATEGORIES:Activités
END:VEVENT
END:VCALENDAR