BEGIN:VCALENDAR
VERSION:2.0
PRODID:-//wp-events-plugin.com//7.2.3.1//EN
TZID:America/New_York
X-WR-TIMEZONE:America/New_York
BEGIN:VEVENT
UID:874@clubdimension.org
DTSTART;TZID=America/New_York;VALUE=DATE:20250209
DTEND;TZID=America/New_York;VALUE=DATE:20250210
DTSTAMP:20241205T164253Z
URL:https://www.clubdimension.org/evenements/fi-du-defi-photo-de-nuit/
SUMMARY:Fin du défi - Photo de nuit
DESCRIPTION:DÉFI Photo de nuit\nEntre le 1er décembre 2024 et le 9
 février 2025\, nous vous&nbsp\;proposons un défi intitulé Photo de
 nuit!\nDéfis à relever\n\n\n 	\n\n 	Comme c’est est une des catégories
 de l’exposition 2025\, nous avons cru pertinent de proposer la photo de
 nuit comme nouveau défi pour cette fin d’année 2024 et le début de la
 nouvelle année 2025!\n\n\n\nThème et sous thèmes\n\n\n 	Le thème
 principal est la photo de nuit. Dans le cadre de ce défi\, cette
 définition inclut&nbsp\;:\n\n 	Photos à la noirceur (après la tombée du
 jour ou la nuit)\n 	Photos à l’heure bleue (aussi acceptées). En
 décembre et en début d'année\, l'heure bleue est de très courte durée
 (seulement quelques minutes après le coucher de soleil et aussi avant
 l’heure dorée matinale).\n\n\n 	Sous-thèmes\n\n 	Il y a quatre
 sous-thèmes\n 	Vous pouvez présenter trois photos (maximum) en
 choisissant parmi les 4 sous-thèmes.\n 	Les sous-thèmes sont&nbsp\;:\n\n
 	01 Paysage urbain (rues et ruelles\, les lumières de la ville\, zones
 industrielles)\n 	02 Silhouettes nocturnes (personnes\, monuments\,
 immeubles\,)\n 	03 Ambiance nocturne\n 	04 Pose
 longue\n\n\n\n\n\nCONTRAINTES\n\n\n 	Une de ces 3 photos doit être en noir
 et blanc\n 	Aucune photo prise avec un cellulaire\n\nRemise des
 photos\nDate de
 tombée&nbsp\;:&nbsp\;&nbsp\;&nbsp\;&nbsp\;&nbsp\;&nbsp\;&nbsp\;&nbsp\; 9
 février 2025 à 23h59\nExpédition&nbsp\;:
 &nbsp\;&nbsp\;&nbsp\;&nbsp\;&nbsp\;&nbsp\;&nbsp\;&nbsp\;&nbsp\;&nbsp\;&nbsp
 \;&nbsp\;&nbsp\;&nbsp\;&nbsp\; Les photos doivent être transmises par
 WeTransfer à l’adresse &nbsp\;defis@clubdimension.org\nCritères&nbsp\;:
 &nbsp\;&nbsp\;&nbsp\;&nbsp\;&nbsp\;&nbsp\;&nbsp\;&nbsp\;&nbsp\;&nbsp\;&nbsp
 \;&nbsp\;&nbsp\;&nbsp\;&nbsp\;&nbsp\;&nbsp\;&nbsp\;&nbsp\;&nbsp\; Respecter
 le format habituel d’exportation (1080/1920 px) Max 1080 px de
 hauteur\nAucune limite de participants. Aucune inscription
 requise.\nIdentification des photos avant l’expédition&nbsp\;: &nbsp\;
 \nChaque participant est invité à transmettre un maximum de 3 photos\,
 une photo par sous-thème.\nUne de celles-ci doit être en noir et blanc.
 &nbsp\;AUCUNE PHOTO DE CELLULAIRE.\nVous pouvez ne transmettre qu’une ou
 deux photos\, mais chacune d’elle(s) doit répondre à un sous-thème
 différent (donc pas 2 photos dans le thème «&nbsp\;ambiance
 nocturne&nbsp\;»&nbsp\;par exemple)\nVous devez donner un titre à la
 photo et\, pour faciliter un futur montage\, il est demandé d’identifier
 vos fichiers photos en fonction des sous-thèmes (01\, 02\, 03 ou 04)\, de
 vos nom et prénom\, du titre de la photo et des EXIFS.\nAinsi une photo
 pour le premier de la liste des défis serait par
 exemple&nbsp\;:\n01_nom_prénom_titre_de_la_photo_ISO 100_55
 mm_f4\,0_1_125_s.jpeg\nNous vous suggérons d’ajouter un filigrane ou
 signature à vos photos pour faciliter l’identification.\nÀ noter que
 ces filigranes ne sont pas acceptés pour l’exposition\, donc les faire
 sur une copie de fichier afin de protéger votre original si vous désirez
 le présenter pour l’exposition\nLes photos doivent être transmises
 avant le 9 février 2025 à 23:59 par WeTransfer l’adresse courriel
 suivante :&nbsp\; defis@clubdimension.org\nRetour sur l’exercice\nLors de
 l’envoi de vos photos\, veuillez indiquer votre intérêt à participer
 à une activité de mise en commun des images avec les autres participants
 le samedi 15 février 2025 à 9h30.
CATEGORIES:Activités
END:VEVENT
BEGIN:VTIMEZONE
TZID:America/New_York
X-LIC-LOCATION:America/New_York
BEGIN:STANDARD
DTSTART:20241103T010000
TZOFFSETFROM:-0400
TZOFFSETTO:-0500
TZNAME:EST
END:STANDARD
END:VTIMEZONE
END:VCALENDAR