BEGIN:VCALENDAR
VERSION:2.0
PRODID:-//wp-events-plugin.com//7.2.3.1//EN
TZID:America/New_York
X-WR-TIMEZONE:America/New_York
BEGIN:VEVENT
UID:647@clubdimension.org
DTSTART:20201205T050000Z
DTEND:20201206T043000Z
DTSTAMP:20201106T134331Z
URL:https://www.clubdimension.org/evenements/derriere-la-photo-2/
SUMMARY:Derrière la photo
DESCRIPTION:Date limite pour faire parvenir vos photos pour l'activité
 Derrière la photo\n5 décembre\n\nPour le lancement de l’année 2021\,
 le Club Dimension vous convie à une soirée sous le signe du réconfort\,
 de l’émotion et de la bienveillance !\n\nNous vous invitons à fouiller
 dans votre banque de photos\, à choisir une photo ou une brève série et
 à nous raconter le « moment » touchant ou cocasse DERRIÈRE CETTE PHOTO
 lors de la soirée du 13 janvier 2021. Les photos peuvent être réussies
 ou écorchées.&nbsp\; L’important est son histoire ! Voir article pour
 tous détails.
END:VEVENT
END:VCALENDAR