BEGIN:VCALENDAR
VERSION:2.0
PRODID:-//wp-events-plugin.com//7.2.3.1//EN
TZID:America/New_York
X-WR-TIMEZONE:America/New_York
BEGIN:VEVENT
UID:863@clubdimension.org
DTSTART;TZID=America/New_York;VALUE=DATE:20241102
DTEND;TZID=America/New_York;VALUE=DATE:20241103
DTSTAMP:20240913T112712Z
URL:https://www.clubdimension.org/evenements/defi-photo-automne-2024-choue
 tte-il-pleut/
SUMMARY:Défi photo - Automne 2024 - Chouette il pleut !
DESCRIPTION:DÉFI Chouette il pleut!\nEntre le 12 septembre et le 2
 novembre 2024\, nous vous proposons un nouveau défi
 photographique&nbsp\;bien adapté à la saison automnale&nbsp\;: la
 pluie…\nDéfis à relever\nSoyons originaux et créatifs. Un maximum de
 trois photos\, obligatoirement prises entre le 12 septembre et le 2
 novembre 2024\, répondant à chacun de ces défis :\n\n\n 	\n\n 	(01)
 Jouer avec la pluie (être créatif)\n 	(02) Après la pluie…\n 	(03)
 Regarder la pluie par la fenêtre\n\n\n\nCONTRAINTE&nbsp\;:&nbsp\; Une de
 ces 3 photos doit être en noir et blanc\nRemise des photos\nDate de
 tombée&nbsp\;:&nbsp\;&nbsp\;&nbsp\;&nbsp\;&nbsp\;&nbsp\;&nbsp\;&nbsp\; 2
 novembre 2024 à 23h59\nExpédition&nbsp\;:
 &nbsp\;&nbsp\;&nbsp\;&nbsp\;&nbsp\;&nbsp\;&nbsp\;&nbsp\;&nbsp\;&nbsp\;&nbsp
 \;&nbsp\;&nbsp\;&nbsp\;&nbsp\; Les photos doivent être transmises par
 WeTransfer à l’adresse &nbsp\;defis@clubdimension.org\nCritères&nbsp\;:
 &nbsp\;&nbsp\;&nbsp\;&nbsp\;&nbsp\;&nbsp\;&nbsp\;&nbsp\;&nbsp\;&nbsp\;&nbsp
 \;&nbsp\;&nbsp\;&nbsp\;&nbsp\;&nbsp\;&nbsp\;&nbsp\;&nbsp\;&nbsp\; Respecter
 le format habituel d’exportation (1080/1920 px) Max 1080 px de
 hauteur\nAucune limite de participants. Aucune inscription
 requise.\nIdentification des photos avant l’expédition&nbsp\;: &nbsp\;
 \nChaque participant est invité à transmettre un maximum de 3 photos\,
 une photo par défi. Une de celles-ci doit être en noir et blanc.
 &nbsp\;Vous pouvez ne transmettre qu’une ou deux photos\, mais chacune
 d’elle(s) doit répondre à un défi différent (donc pas 2 photos dans
 le thème «&nbsp\;après la pluie «&nbsp\;par exemple)\nVous devez donner
 un titre à la photo et\, pour faciliter un futur montage\, il est demandé
 d’identifier vos fichiers photos en fonction des défis relevés (01\, 02
 ou 03)\, de votre nom\, du titre de la photo et des EXIFS.\nAinsi une photo
 pour le premier de la liste des défis
 serait&nbsp\;:\n01_nom_prénom_titre_de_la_photo_ISO 100_55
 mm_f4\,0_1_125_s.jpeg\nNous vous suggérons d’ajouter un filigrane ou
 signature à vos photos pour faciliter l’identification.\nLes photos
 doivent être transmises avant le 2 novembre à 23:59 par WeTransfer
 l’adresse courriel suivante :&nbsp\; defis@clubdimension.org\nRetour sur
 l’exercice\nLors de l’envoi de vos photos\, veuillez indiquer votre
 intérêt à participer à une activité de mise en commun des images avec
 les autres participants le samedi 9 novembre 2024 à 9h30.
CATEGORIES:Activités
END:VEVENT
BEGIN:VTIMEZONE
TZID:America/New_York
X-LIC-LOCATION:America/New_York
BEGIN:DAYLIGHT
DTSTART:20240310T030000
TZOFFSETFROM:-0500
TZOFFSETTO:-0400
TZNAME:EDT
END:DAYLIGHT
END:VTIMEZONE
END:VCALENDAR