BEGIN:VCALENDAR
VERSION:2.0
PRODID:-//wp-events-plugin.com//7.2.3.1//EN
TZID:America/New_York
X-WR-TIMEZONE:America/New_York
BEGIN:VEVENT
UID:666@clubdimension.org
DTSTART;TZID=America/New_York:20210320T090000
DTEND;TZID=America/New_York:20210320T110000
DTSTAMP:20210315T191842Z
URL:https://www.clubdimension.org/evenements/defi-phenomenes-meteo-hiverna
 ux-rencontre-de-mise-en-commun/
SUMMARY:Défi Phénomènes météo hivernaux - rencontre de mise en commun
DESCRIPTION:Défi phénomènes météo hivernaux- Rencontre de mise en
 commun\n\nObserver et photographier divers phénomènes météorologiques
 hivernaux\, c’est le défi que vous avez relevé en participant au défi
 Phénomènes météo durant les mois de janvier et février !\n\nLes
 participants sont invités à une activité de mise en commun
 le&nbsp\;samedi 20 mars\, de 9h00 à 11h00\,&nbsp\;sur la plate-forme Zoom.
 Vous aurez l’occasion de partager votre expérience\, de voir les
 réalisations des autres participants et d’effectuer un bilan de cette
 activité.\n\nAfin de vous assurer que les organisateurs ont bien reçu vos
 photos\, nous vous invitons à vérifier que votre nom apparaît sur la
 liste ci-dessous&nbsp\;:\n\n 	Si votre nom est sur cette liste\, vous
 recevrez un courriel avec le lien ZOOM vous permettant d’assister à
 cette rencontre\;\n 	Si votre nom n’est pas sur cette liste et que vous
 avez soumis des photos avant la date de tombée du 7 mars nous vous
 demandons de communiquer avec les organisateurs à l’adresse
 suivante&nbsp\;activites@clubdimension.org.\n\nÀ très bientôt\n\nNormand
 Lessard\n\nFabienne Racine\n\nGilles Nadeau\n\nMartine Brassard\n\nPierre
 Rhéaume\n\nJean-Pierre Riffon\n\nMichiko Ôtomo\n\nElisabeth Morin\n\nPaul
 Brubacher\n\nLouise Faucher\n\nDenise Lajoie\n\nEric Legardeur\n\nSylvain
 Bergeron\n\nPierre Bourget\n\nLouise Létourneau\n\nJacques
 Morissette\n\nLine Biron\n\nDenis Villeneuve\n\nLouyse Ledoux\n\nCarolle
 Nolin\n\nYves Cloutier\n\nAndré Coulombe\n\nDominic Cournoyer\n\nFrance
 Gingras\n\nLise Douville\n\nCéline Martel\n\nRoger Thibeault\n\nSylvie
 Blais\n\nAnne Dion\n\nJacinthe Paquet\n\nLucie Baillargeon\n\n&nbsp\;
END:VEVENT
BEGIN:VTIMEZONE
TZID:America/New_York
X-LIC-LOCATION:America/New_York
BEGIN:DAYLIGHT
DTSTART:20210314T030000
TZOFFSETFROM:-0500
TZOFFSETTO:-0400
TZNAME:EDT
END:DAYLIGHT
END:VTIMEZONE
END:VCALENDAR