BEGIN:VCALENDAR
VERSION:2.0
PRODID:-//wp-events-plugin.com//7.2.3.1//EN
TZID:America/New_York
X-WR-TIMEZONE:America/New_York
BEGIN:VEVENT
UID:665@clubdimension.org
DTSTART;TZID=America/New_York:20210306T090000
DTEND;TZID=America/New_York:20210306T110000
DTSTAMP:20210301T133858Z
URL:https://www.clubdimension.org/evenements/defi-oeuvres-dart-rencontre-d
 e-mise-en-commun/
SUMMARY:Défi Oeuvres d'art - rencontre de mise en commun
DESCRIPTION:Rallier art\, histoire et photographie\, c’est le défi que
 vous avez relevé en participant au défi Œuvres d’art public durant les
 mois de janvier et février !\n\nLes participants sont invités à une
 activité de mise en commun le&nbsp\;samedi 6 mars\, de 9h00 à
 11h00\,&nbsp\;sur la plate-forme Zoom. Vous aurez l’occasion de partager
 votre expérience\, de voir les réalisations des autres participants et
 d’effectuer un bilan de cette activité.\n\nAfin de vous assurer que les
 organisateurs ont bien reçu vos photos\, nous vous invitons à vérifier
 que votre nom apparaît sur la liste ci-dessous&nbsp\;:\n\n 	Si votre nom
 est sur cette liste\, vous recevrez un courriel avec le lien ZOOM vous
 permettant d’assister à cette rencontre\;\n 	Si votre nom n’est pas
 sur cette liste et que vous avez soumis des photos avant la date de tombée
 du 28 février\, nous vous demandons de communiquer avec les organisateurs
 à l’adresse suivante&nbsp\;activites@clubdimension.org.\n\nÀ très
 bientôt\n\nGilles Nadeau\n\nAnne Dion\n\nCarole coulombe\n\nCéline
 Martel\n\nPaul Brubacher\n\nFabienne Racine\n\nNicole Barge\n\nLine
 Biron\n\nElisabeth Morin\n\nJean-Pierre Riffon\n\nEric Legardeur\n\nSylvain
 Bergeron\n\nMichel Pézolet\n\nLouise Létourneau\n\nDenis
 Villeneuve\n\nLouyse Ledoux\n\nCarolle Nolin\n\nNormand Lessard\n\nJacques
 Morissette\n\nAndré Coulombe\n\nFrance Gingras\n\nDenis
 Bussières\n\nSylvie Blais\n\nFranck Tournier\n\n&nbsp\;\n\n&nbsp\;
END:VEVENT
BEGIN:VTIMEZONE
TZID:America/New_York
X-LIC-LOCATION:America/New_York
BEGIN:STANDARD
DTSTART:20201101T010000
TZOFFSETFROM:-0400
TZOFFSETTO:-0500
TZNAME:EST
END:STANDARD
END:VTIMEZONE
END:VCALENDAR