BEGIN:VCALENDAR
VERSION:2.0
PRODID:-//wp-events-plugin.com//7.2.3.1//EN
TZID:America/New_York
X-WR-TIMEZONE:America/New_York
BEGIN:VEVENT
UID:642@clubdimension.org
DTSTART;VALUE=DATE:20201021
DTEND;VALUE=DATE:20201022
DTSTAMP:20201106T130041Z
URL:https://www.clubdimension.org/evenements/defi-escaliers-nouvelle-moutu
 re-2/
SUMMARY:Défi escaliers Nouvelle mouture
DESCRIPTION:Défi escaliers – Nouvelle mouture!\n\nDu 21 octobre au 22
 novembre 2020\n\nEntre le 21 octobre et le 22 novembre 2020\, nous vous
 invitons à enfiler vos meilleures chaussures de marche et à plonger dans
 l’histoire\, caméra au cou\, pour relever le Défi
 escaliers!\n\nL’arrondissement de La Cité-Limoilou de la ville de
 Québec compte un grand nombre d’escaliers publics qui nous guident à
 travers le relief si particulier de la ville. Plusieurs offrent des points
 de vue remarquables qui valent le&nbsp\;déplacement.\n\nChaque escalier\,
 qu’il soit de fer ou de bois\, a sa propre histoire. La connaître\,
 c’est entrer dans le quotidien des quartiers\, partager l’intimité des
 travailleurs et des&nbsp\;promeneurs.\n\nPour ce défi\, une sélection de
 6 escaliers vous est proposée. Ils sont tous regroupés dans un même
 secteur. La distance entre les deux points les plus éloignés est
 d’environ 20 minutes de marche\, en passant par la basse ville.\n\nChaque
 photographe est invité\, au moment qui lui convient\, à suivre le plan
 proposé et à observer\, puis à capturer l’essence de ces lieux.
 Imprégnez-vous de l’histoire de chaque escalier ou du secteur
 environnant avant d’entreprendre cette belle aventure\, en consultant le
 document comprenant 6 capsules historiques (disponible en cliquant sur ce
 lien).\n\n&nbsp\;Défis à relever\n\nComme l’indique son nom\, il
 s’agit d’un défi qui consiste à réaliser&nbsp\;:\n\n 	Une photo en
 plongée ou en contre-plongée\n 	Une photo rapprochée d’un élément
 architectural de l’escalier\n 	Une photo intégrant un élément humain\n
 	Une photo mettant en valeur la vue du haut de l’escalier ou une partie
 du quartier où il est implanté\n\nAjoutez à cela autant de photos
 créatives en vous laissant guider par votre inspiration!\n\n&nbsp\;Mesures
 de sécurité\n\nPour votre sécurité\, nous avons opté pour un défi
 individuel. Nous vous encourageons à respecter les mesures d’hygiène et
 de prévention pour la sécurité de tous. Nous vous suggérons d’éviter
 tout rassemblement pour réaliser cette activité.\n\n&nbsp\;Remise des
 photos\n\nDate de tombée&nbsp\;:&nbsp\; 22-11-2020\n\nAdresse
 d’expédition&nbsp\;:
 defi_escaliers@clubdimension.org\n\nCritères&nbsp\;: respecter le format
 habituel d’exportation (max 1080 /1920 px)\n\nChaque participant est
 invité à transmettre un maximum de 5 photos à l’adresse indiquée\, en
 privilégiant WeTransfer. Identifiez clairement vos photos\; ajoutez un
 titre. Nous recommandons d’inclure votre signature à vos photos.\n\nUne
 sélection des images transmises sera présentée ultérieurement lors
 d’une soirée régulière du Club.\n\nRetour sur l’exercice\n\nLors de
 l’envoi de vos photos\, veuillez indiquer votre intérêt à participer
 à une activité de mise en commun des images avec les autres participants.
 Cette rencontre serait en formule Zoom (date possible&nbsp\;: 5 décembre\,
 de 9 h à 11 h). L’exercice aurait pour but de partager les différentes
 visions des participants\, de commenter de façon constructive les photos
 soumises et d’effectuer un bilan de l’activité.\n\nListe des
 escaliers\n\n 	Escalier Colbert / Coteau
 Ste-Geneviève&nbsp\;(repère&nbsp\;: 635 Mazenod)\n 	Escalier Badelard
 (point de repère : 236 Arago Est)\n 	Escalier de la Chapelle (point de
 repère&nbsp\;: 590 St-Vallier Est)&nbsp\;\n 	Escalier Lépine (point de
 repère&nbsp\;: 735 St-Vallier Est)\n 	Escalier du Faubourg (point de
 repère&nbsp\;: 365 St-Vallier Est)\n 	Escalier Lavigueur (point de
 repère&nbsp\;: 101 Arago Est)\n\nAucune limite de participants. Aucune
 inscription requise.\n\nVos organisateurs&nbsp\;:\n\nAnnie Boisvert\,
 Michel Pellerin\, Fabienne Racine\, Bertrand Dorval\n\n&nbsp\;
END:VEVENT
END:VCALENDAR