BEGIN:VCALENDAR
VERSION:2.0
PRODID:-//wp-events-plugin.com//7.2.3.1//EN
TZID:America/New_York
X-WR-TIMEZONE:America/New_York
BEGIN:VEVENT
UID:374@clubdimension.org
DTSTART:20180123T000000Z
DTEND:20180123T020000Z
DTSTAMP:20171126T150958Z
URL:https://www.clubdimension.org/evenements/cours-dinitiation-a-la-photog
 raphie-numerique-hiver-2018/
SUMMARY:Cours d'initiation à la photographie numérique (Hiver 2018)
DESCRIPTION:Professeur\nFrancis Gagnon\nContenu du cours\n\n 	La
 photographie et l’appareil photo\n 	Le triangle d’exposition\n 	Le
 règles de base de la composition\n 	Réglages avancés de l’appareil
 photo (balance de blanc\, modes d’acquisition\, compensation
 d’exposition\, etc.)\n 	Histogramme et posemètre\n 	Pour pousser plus
 loin : les filtres et le développement d’une photographie\n 	Sur le
 terrain\, ou comment aborder un sujet photographique\n 	Sortie !\n
 	\n\nCalendrier des cours:\n\n 	8 janvier 2018\n 	15 janvier 2018\n
 	22&nbsp\;janvier 2018\n 	29&nbsp\;janvier 2018\n 	5 février 2018\n
 	12&nbsp\;février 2018\n 	19 février 2018\n
CATEGORIES:Cours
LOCATION:\, \, 
X-APPLE-STRUCTURED-LOCATION;VALUE=URI;X-ADDRESS=\,
 ;X-APPLE-RADIUS=100;X-TITLE=:geo:0,0
END:VEVENT
END:VCALENDAR