BEGIN:VCALENDAR
VERSION:2.0
PRODID:-//wp-events-plugin.com//7.2.3.1//EN
TZID:America/New_York
X-WR-TIMEZONE:America/New_York
BEGIN:VEVENT
UID:173@clubdimension.org
DTSTART:20141202T000000Z
DTEND:20141202T020000Z
DTSTAMP:20140830T012158Z
URL:https://www.clubdimension.org/evenements/cours-de-traitement-dimages-a
 vec-photoshop-elements-automne-2014/
SUMMARY:Cours de traitement d'images avec Photoshop Éléments\, automne
 2014
DESCRIPTION:
CATEGORIES:Cours
LOCATION:Domaine de Maizerets\, 2000 boulevard Montmorency\, Québec\,
 Québec\, G1J 5E7\, Canada
GEO:46.836426;-71.215911
X-APPLE-STRUCTURED-LOCATION;VALUE=URI;X-ADDRESS=2000 boulevard
 Montmorency\, Québec\, Québec\, G1J 5E7\,
 Canada;X-APPLE-RADIUS=100;X-TITLE=Domaine de
 Maizerets:geo:46.836426,-71.215911
END:VEVENT
END:VCALENDAR