BEGIN:VCALENDAR
VERSION:2.0
PRODID:-//wp-events-plugin.com//7.2.3.1//EN
TZID:America/New_York
X-WR-TIMEZONE:America/New_York
BEGIN:VEVENT
UID:558@clubdimension.org
DTSTART;TZID=America/New_York;VALUE=DATE:20200106
DTEND;TZID=America/New_York;VALUE=DATE:20200107
DTSTAMP:20191007T120549Z
URL:https://www.clubdimension.org/evenements/autoportrait-une-demarche-pho
 tographique/
SUMMARY:Autoportrait\, une démarche photographique (remise des photos)
DESCRIPTION:Inspiré par une l’exposition de photographies Self Images
 que j’ai eu la chance de voir lors de mes dernières vacances au
 Thessaloniki Museum of Photography. Les artistes présentaient des
 autoportraits de façon très artistique. Ils avaient tous choisi un fil
 conducteur pour créer et présenter leurs œuvres ce qui rendait cette
 exposition particulièrement intéressante.\n\nQuelques membres ont déjà
 réalisé plusieurs autoportraits dans les dernières saisons. Parfois par
 manque de disponibilité de modèles pour réaliser un projet\, pour
 exprimer leur créativité ou encore pour présenter leur côté
 humoristique\, reste que le résultat est fort intéressant et permet
 d’explorer plusieurs techniques en photographie.\n\nDe plus\, ce type de
 démarche oblige une réflexion et une préparation. Le photographe doit
 donc définir son intention et passer en mode planification de son shooting
 photo. Peut-être aura-t-il besoin de revoir quelques notions au niveau de
 l’éclairage\, choisir le bon décor\, pratiquer ses expressions\,
 etc.\n\nPour visualiser le diaporama présenté lors de la
 rencontre:&nbsp\; Présentation Autoportrait\nLes étapes du défi\n1-
 Inscription sur le site du club à partir de dimanche 22 septembre. Vous
 avez jusqu'au 20 octobre pour vous inscrire et il n'y a pas de limite au
 niveau du nombre de personnes pouvant participer\;&nbsp\;&nbsp\;\n\n2-
 Recherche et planification de votre séance\;\n\n3- Réalisation de votre
 autoportrait\;&nbsp\;\n\n4- Remise du fichier photo au plus tard le 6
 Janvier 2020 selon le format du projecteur (1920 X 1080) à
 castonguay.natacha@hotmail.com\;\n\n5- Votre photo doit être accompagné
 d’un titre\;&nbsp\;\n\n6- La réalisation d'un montage d’une
 présentation qui sera montré lors d’une soirée régulière du club.
CATEGORIES:Activités
END:VEVENT
BEGIN:VTIMEZONE
TZID:America/New_York
X-LIC-LOCATION:America/New_York
BEGIN:STANDARD
DTSTART:20191103T010000
TZOFFSETFROM:-0400
TZOFFSETTO:-0500
TZNAME:EST
END:STANDARD
END:VTIMEZONE
END:VCALENDAR