BEGIN:VCALENDAR
VERSION:2.0
PRODID:-//wp-events-plugin.com//7.2.3.1//EN
TZID:America/New_York
X-WR-TIMEZONE:America/New_York
BEGIN:VEVENT
UID:684@clubdimension.org
DTSTART:20210918T140000Z
DTEND:20210918T170000Z
DTSTAMP:20210907T194134Z
URL:https://www.clubdimension.org/evenements/atelier-studio-traiter-un-por
 trait-sur-fond-vert/
SUMMARY:Atelier studio: traiter un portrait sur fond vert
DESCRIPTION:Démystifier la prise de photo sur fond vert et le remplacement
 du fond par l'emploi de Photoshop.\n\nL'atelier s'inscrit dans une
 activité du club de réaliser des photos des bénéficiaires d'un CHSLD
 les 29 et 30 septembre 2021.&nbsp\; Certaines photos seront prises sur fond
 vert et seront par la suite traitées par des retoucheurs du club photo
 pour insérer une image de paysage en arrière plan. L'atelier du 18
 septembre est réservé en priorité aux membres du club qui agiront comme
 retoucheurs ( 4 retoucheurs ) afin de développer leurs compétences pour
 cette activité.\n\nLes places restantes ( 12 ) sont offertes aux membres
 réguliers et membres abonnés (voir la note ci-contre).\n\nIl est
 fortement recommandé que les participants amènent leur ordinateur doté
 du logiciel de retouche Photoshop.&nbsp\; Une connaissance minimale de
 Photoshop est requise.\n\nAu menu de la journée:\n\n 	montage de 1 ou 2
 studio(s) sur fond vert\n 	prise de photos avec modèles ( les participants
 jouent le rôle de modèle )\n 	Analyse et compréhension du processus
 d'édition de fond vert avec Photoshop\n 	Édition de photos en mode
 atelier libre.\n\nNotez que personne n'est expert dans ce domaine mais tous
 ensemble nous trouverons comment faire sans trop se compliquer la
 vie.\n\nL'atelier se tiendra au 3è étage des Ateliers du
 réacteur.\n\nNotes importantes pour les billets:\n\nVous ne voyez que les
 billets qui vous sont autorisés et en fonction de la date du jour.&nbsp\;
 Par exemple\, seuls les membres abonnés verront le billet membre abonné
 et uniquement entre le 11 et le 17 septembre.\n\nLes billets disponibles
 sont:\n\n 	Billet membre retoucheur :&nbsp\; 4 billets réservés pour les
 retoucheurs des photos de CHSLD\, valides du 3 au 17 septembre\n 	Billet
 membre régulier : 12 billets disponibles aux membres du 3 septembre au 17
 septembre\n 	Billet membre abonné : billets restants disponibles aux
 abonnés à partir du 11 septembre (12 - le nombre de billets membres
 ).\n\n&nbsp\;\n\nPour plus d'information\, consultez la publication faite
 sur la page Facebook privée du club pour la tenue de l'activité de photo
 en CHSLD.\n\nQuestion?&nbsp\; studio@clubdimension.org
CATEGORIES:Ateliers
LOCATION:Ateliers du Réacteur\, 731\, rue St-Vallier Est\, Québec\,
 Québec\, G1K 3P9\, Canada
X-APPLE-STRUCTURED-LOCATION;VALUE=URI;X-ADDRESS=731\, rue St-Vallier Est\,
 Québec\, Québec\, G1K 3P9\, Canada;X-APPLE-RADIUS=100;X-TITLE=Ateliers du
 Réacteur:geo:0,0
END:VEVENT
END:VCALENDAR