BEGIN:VCALENDAR
VERSION:2.0
PRODID:-//wp-events-plugin.com//7.2.3.1//EN
TZID:America/New_York
X-WR-TIMEZONE:America/New_York
BEGIN:VEVENT
UID:685@clubdimension.org
DTSTART:20211016T140000Z
DTEND:20211016T210000Z
DTSTAMP:20211006T160736Z
URL:https://www.clubdimension.org/evenements/atelier-studio-sujet-a-venir/
SUMMARY:Atelier studio photo - Low key et High key
DESCRIPTION:Le but de cet atelier est de comprendre ensemble le
 comportement de la lumière dans un studio.\n\nNous reproduirons les trois
 photos suivantes étape par étape dans le but d’être capable de faire
 les choix de diffuseurs et de positionnement de l’éclairage
 .\n\n&nbsp\;\n\nI  \n\nApportez votre appareil\, votre masque et votre
 passeport vaccinal..\n\nInscrivez-vous rapidement\, seulement 8 places
 disponibles.\n\n&nbsp\; &nbsp\; &nbsp\;Billets membres réguliers
 disponibles à partir du 27 septembre\n\n&nbsp\; &nbsp\; &nbsp\;Billets
 membres abonnés disponibles à partir du 7 octobre\n\nN.B.: les règles de
 la santé publique en vigueur en lien avec la COVID-19 seront appliquées
 lors de cet atelier.\n\nQuestion?&nbsp\; Écrivez à
 studio@clubdimension.org&nbsp\;\n\nP.S.:&nbsp\; Si l'activité vous
 intéresse mais qu'il ne reste plus de place\,&nbsp\; écrivez-nous.&nbsp\;
 Nous constituerons une liste d'attente.
CATEGORIES:Ateliers
LOCATION:Ateliers du Réacteur\, 731\, rue St-Vallier Est\, Québec\,
 Québec\, G1K 3P9\, Canada
X-APPLE-STRUCTURED-LOCATION;VALUE=URI;X-ADDRESS=731\, rue St-Vallier Est\,
 Québec\, Québec\, G1K 3P9\, Canada;X-APPLE-RADIUS=100;X-TITLE=Ateliers du
 Réacteur:geo:0,0
END:VEVENT
END:VCALENDAR