BEGIN:VCALENDAR
VERSION:2.0
PRODID:-//wp-events-plugin.com//7.2.3.1//EN
TZID:America/New_York
X-WR-TIMEZONE:America/New_York
BEGIN:VEVENT
UID:847@clubdimension.org
DTSTART;TZID=America/New_York:20241019T090000
DTEND;TZID=America/New_York:20241019T160000
DTSTAMP:20240915T115600Z
URL:https://www.clubdimension.org/evenements/atelier-studio-funky-au-studi
 o-rosewood-2/
SUMMARY:Atelier Gestion de modèles au studio Rosewood
DESCRIPTION:Activité studio photo - Apprendre la gestion de modèle au
 Studio Rosewood\n\nCet atelier de 2 heures offre aux photographes de
 portrait en studio une opportunité d'apprendre à gérer un modèle dans
 un décor captivant en lumière naturelle (i.e. sans flash).\n\n3 stations
 seront disponibles et 3 modèles seront sur place et attendront vos
 directives.\n\nPour vous aider\, une mini-formation sur la gestion de
 modèle de 30 minutes vous sera offerte au début de chaque atelier.\n\nPar
 la suite\, vous serez en dyade (i.e. 2 photographes) pour une heure avec un
 roulement de 15 minutes par station.&nbsp\; Vous aurez la chance de
 photographier les modèles dans différents décors en ayant une
 supervision des membres de l'équipe studio.\n\nEnfin\, vous aurez une
 plage libre de 30 minutes pour finaliser les autres photographies que vous
 souhaitez.\n\nIl y aura 3 ateliers de 2 heures formés de 6 photographes
 seulement.\n\nPour y participer\, vous devrez vous inscrire à l'un d'eux
 (i.e. prendre un billet) :\n\n 	Atelier de 9h à 11h\n 	Atelier de 11h45 à
 13h45\n 	Atelier de 14h à 16h.\n\nUn défi additionnel sera de
 photographier les modèles dans un temps prédéfini. N'hésitez pas à
 consulter le site Internet de Rosewood pour vous inspirer et réfléchir
 aux photos que vous pourriez faire:
 https://rosewoodphotographie.com/pages/studio\n\n\n\n\nLes inscriptions
 ouvriront lundi 23 septembre 2024 à 19h.&nbsp\;\n\nQuestions ou
 suggestions ?&nbsp\; studio@clubdimension.org\n\n&nbsp\;\n\n&nbsp\;
CATEGORIES:Ateliers
LOCATION:Studio Rosewood\, 4264 rue Saint-Félix\, #7\, Quebec\, Quebec\,
 G1Y1X5\, Canada
X-APPLE-STRUCTURED-LOCATION;VALUE=URI;X-ADDRESS=4264 rue Saint-Félix\,
 #7\, Quebec\, Quebec\, G1Y1X5\, Canada;X-APPLE-RADIUS=100;X-TITLE=Studio
 Rosewood:geo:0,0
END:VEVENT
BEGIN:VTIMEZONE
TZID:America/New_York
X-LIC-LOCATION:America/New_York
BEGIN:DAYLIGHT
DTSTART:20240310T030000
TZOFFSETFROM:-0500
TZOFFSETTO:-0400
TZNAME:EDT
END:DAYLIGHT
END:VTIMEZONE
END:VCALENDAR