BEGIN:VCALENDAR
VERSION:2.0
PRODID:-//wp-events-plugin.com//7.2.3.1//EN
TZID:America/New_York
X-WR-TIMEZONE:America/New_York
BEGIN:VEVENT
UID:785@clubdimension.org
DTSTART:20230128T140000Z
DTEND:20230128T210000Z
DTSTAMP:20221212T135049Z
URL:https://www.clubdimension.org/evenements/atelier-flash-cobra/
SUMMARY:Atelier flash cobra
DESCRIPTION:Venez apprivoiser votre flash cobra lors d’un atelier qui se
 tiendra le 28 janvier 2023&nbsp\; de 9 hres à 16 hres aux ateliers du
 Réacteur\, 727 rue Saint-Vallier Est.\n\nUn flash cobra est un flash
 externe qui peut se fixer sur la griffe porte-flash de votre appareil
 photo. Le flash cobra peut être utilisé en éclairage principal pour
 éclairer le sujet\, ou en éclairage secondaire pour déboucher les
 ombres.\n\nVoici le déroulement de l’atelier&nbsp\;:\n\nAvant-midi\n\n
 	Réglages du flash\, menu\, manuel\, TTL\, zoom…\n 	Mode TTL (Ninja)\n
 	Double triangle d’exposition\n 	Explication lumière ambiante vs flash
 et comment les contrôler (vitesse\, ouverture\, ISO\, intensité du
 flash)\n 	Explication de la vitesse synchro\, high speed …\n 	Posemètre
 (lumière réfléchie vs source de lumière)\n 	Remote control TTL\, ou non
 (Poket wizard…)\n 	Pratique\n\nPause pour le dîner\n\nAprès-midi\n\n
 	Modification de la lumière (bouncer plafond\, mur…)\n 	Diffuseur
 (l’arsenal)\n 	La couleur de la lumière\n 	Flash déporté\n 	Photo à
 contre jour\, utiliser le soleil comme «&nbsp\;rim light&nbsp\;»\n 	Deux
 flashs (explication des zones)\n 	Pratique\n\nMatériel requis\n\n
 	Caméra\n 	Flash externe\n 	Lunch pour le midi\n\nInscription\n\n 	À
 partir du 8 janvier 2023 via le site WEB du club\n 	Nombre maximal de
 participants&nbsp\;: 16\n\nFormateurs\n\n 	Daniel Charest\n 	Mario Walker\n
CATEGORIES:Activités
END:VEVENT
END:VCALENDAR