BEGIN:VCALENDAR
VERSION:2.0
PRODID:-//wp-events-plugin.com//7.2.3.1//EN
TZID:America/New_York
X-WR-TIMEZONE:America/New_York
BEGIN:VEVENT
UID:822@clubdimension.org
DTSTART:20231111T140000Z
DTEND:20231111T200000Z
DTSTAMP:20231107T024048Z
URL:https://www.clubdimension.org/evenements/atelier-dintroduction-au-stud
 io-photo-8/
SUMMARY:Atelier d'introduction au studio photo
DESCRIPTION:Atelier d’introduction à l’utilisation du matériel de
 studio photo du club Dimension\n\nLes notions abordées vous seront très
 utiles si vous pensez être photographe à l'activité Help Portrait du 25
 novembre.\n\nLe Samedi 11 novembre 2023 de 9h à 15h *** ATTENTION AUX
 HEURES ***\n\nAgenda\n\n 	Description\, installation et rangement du
 matériel de studio\n 	Démarche afin de réserver le local et le
 matériel&nbsp\;\n 	Utilisation de son appareil photo muni d’un sabot de
 flash\n 	Rudiments sur la photo de studio\n 	Essais de shooting\n\nÀ ne
 pas oublier:\n\n 	Votre caméra disposant d'un mode manuel et d'un sabot de
 flash.&nbsp\;\n 	Avoir des piles chargées.\n\nLes consignes d'usage seront
 transmises aux participants inscrits quelques jours avant la tenue de
 l'activité.&nbsp\;\n\nL'atelier se tiendra au troisième étage des
 Ateliers du réacteur\, 731 rue St-Valliers Est.\n\nQuestion?&nbsp\;
 Écrivez-nous à studio@clubdimension.org\n\nPS:&nbsp\; L'activité est
 limitée à 16 participants et ne durera qu'une demie-journée car une
 autre activité studio sera tenue en après-midi au même endroit.&nbsp\;
 Veuillez être présent quelques minutes avant l'heure de début pour
 respecter l'agenda.\n\nP.P.S.: Si toutes les places sont prises ou que
 cette date ne vous convient pas\, écrivez-nous à l'adresse
 ci-haut.&nbsp\; Nous pourrons alors planifier un autre atelier en fonction
 de la demande.&nbsp\;\n\n&nbsp\;\n\n&nbsp\;
CATEGORIES:Ateliers
LOCATION:Ateliers du Réacteur\, 731\, rue St-Vallier Est\, Québec\,
 Québec\, G1K 3P9\, Canada
X-APPLE-STRUCTURED-LOCATION;VALUE=URI;X-ADDRESS=731\, rue St-Vallier Est\,
 Québec\, Québec\, G1K 3P9\, Canada;X-APPLE-RADIUS=100;X-TITLE=Ateliers du
 Réacteur:geo:0,0
END:VEVENT
END:VCALENDAR