BEGIN:VCALENDAR
VERSION:2.0
PRODID:-//wp-events-plugin.com//7.2.3.1//EN
TZID:America/New_York
X-WR-TIMEZONE:America/New_York
BEGIN:VEVENT
UID:508@clubdimension.org
DTSTART:20190427T140000Z
DTEND:20190427T210000Z
DTSTAMP:20190120T185608Z
URL:https://www.clubdimension.org/evenements/atelier-apprivoisez-votre-fla
 sh-externe-3/
SUMMARY:Atelier Apprivoisez votre flash externe
DESCRIPTION:&nbsp\;\nVenez apprivoiser votre flash et vous en faire un ami.
 Nous vous proposons un atelier sur le flash cobra\, ce petit flash que
 l’on met sur l’appareil\, à l’Atelier du Réacteur sur la rue
 St-Vallier.&nbsp\; Voici une idée du programme de la
 journée.\n&nbsp\;\nMatériel des participants:\n&nbsp\;\n\n 	\n\n
 	\nCaméra\n\n 	\nFlash externe\n\n 	\nLunch pour le
 midi\n\n\n\n\n&nbsp\;\nDéroulement de la journée :\n\n 	\nRéglages du
 flash\, menu\, manuel\, ttl\, zoom …\n\n 	\nMode TTL (Ninja)\n\n
 	\nDouble triangle d’exposition\n\n 	\nExplication lumière ambiante vs
 flash et comment les contrôler (vitesse\, ouverture\, iso\, intensité du
 flash)\n\n 	\nExplication de la vitesse synchro\, high speed …\n\n
 	\nPosemètre (lumière réfléchie vs source de lumière)\n\n 	\nRemote
 contrôle TTL ou non (Poket wizard ….)\n\n 	\nPratique\n\n\nDîner\n\n
 	\nModification de la lumière (bouncer plafond\, mur …)\n\n 	\nDiffuseur
 (l’arsenal)\n\n 	\nLa couleur de la lumière\n\n 	\nFlash déporté\n\n
 	\nPhoto à contre jour\, utiliser le soleil comme rim light\n\n 	\nDeux
 flashs (explication des zones)\n\n 	\nPratique
 (exercices)\n\n\n&nbsp\;\n&nbsp\;\nDaniel
 Charest\ncharest_24@icloud.com\n&nbsp\;\nMario
 Walker\nmariowalker@me.com\n&nbsp\;
CATEGORIES:Ateliers
LOCATION:\, \, 
X-APPLE-STRUCTURED-LOCATION;VALUE=URI;X-ADDRESS=\,
 ;X-APPLE-RADIUS=100;X-TITLE=:geo:0,0
END:VEVENT
END:VCALENDAR