BEGIN:VCALENDAR
VERSION:2.0
PRODID:-//wp-events-plugin.com//7.2.3.1//EN
TZID:America/New_York
X-WR-TIMEZONE:America/New_York
BEGIN:VEVENT
UID:883@clubdimension.org
DTSTART;TZID=America/New_York:20250507T190000
DTEND;TZID=America/New_York:20250507T210000
DTSTAMP:20250506T224750Z
URL:https://www.clubdimension.org/evenements/assemblee-generale-du-club/
SUMMARY:Assemblée générale du Club
DESCRIPTION:\n\n\nN'oubliez pas l'assemblée générale annuelle qui se
 tiendra uniquement en présentiel le mercredi 7 mai à 19 h\, au Centre de
 loisirs Monseigneur-De Laval\, 2 rue du Fargy à Beauport.\n\nAfin que
 l'assemblée puisse délibérer valablement\, le quorum requiert la
 présence de 20% des membres. Votre participation est donc
 essentielle.\n\nCliquez ci-dessous pour accéder aux documents
 suivants:\n\n 	Ordre du jour\n\n\n 	Procès-verbal de l’AGA du 15 mai
 2024\n\nC'est un rendez-vous à ne pas manquer.\n\n\n
CATEGORIES:Activités
END:VEVENT
BEGIN:VTIMEZONE
TZID:America/New_York
X-LIC-LOCATION:America/New_York
BEGIN:DAYLIGHT
DTSTART:20250309T030000
TZOFFSETFROM:-0500
TZOFFSETTO:-0400
TZNAME:EDT
END:DAYLIGHT
END:VTIMEZONE
END:VCALENDAR