BEGIN:VCALENDAR
VERSION:2.0
PRODID:-//wp-events-plugin.com//7.2.3.1//EN
TZID:America/New_York
X-WR-TIMEZONE:America/New_York
BEGIN:VEVENT
UID:843@clubdimension.org
DTSTART;TZID=America/New_York:20240515T190000
DTEND;TZID=America/New_York:20240515T210000
DTSTAMP:20240418T111113Z
URL:https://www.clubdimension.org/evenements/assemblee-general-annuelle-15
 -mai-2024/
SUMMARY:Assemblée générale annuelle - 15 mai 2024
DESCRIPTION:Tous les membres du Club de photo Dimension sont convoqués à
 l'assemblée générale annuelle qui aura lieu le 15 mai 2024 à 19h00 au
 centre des loisirs Mgr De Laval à Beauport. (présentiel
 uniquement)\n\nVous trouverez l'avis de convocation ainsi que l'ordre du
 jour dans l'infolettre du 16 avril 2024..
CATEGORIES:Activités
END:VEVENT
BEGIN:VTIMEZONE
TZID:America/New_York
X-LIC-LOCATION:America/New_York
BEGIN:DAYLIGHT
DTSTART:20240310T030000
TZOFFSETFROM:-0500
TZOFFSETTO:-0400
TZNAME:EDT
END:DAYLIGHT
END:VTIMEZONE
END:VCALENDAR