BEGIN:VCALENDAR
VERSION:2.0
PRODID:-//wp-events-plugin.com//7.2.3.1//EN
TZID:America/New_York
X-WR-TIMEZONE:America/New_York
BEGIN:VEVENT
UID:725@clubdimension.org
DTSTART:20220219T140000Z
DTEND:20220219T210000Z
DTSTAMP:20220206T025513Z
URL:https://www.clubdimension.org/evenements/activite-studio-photo-3/
SUMMARY:Approvoisez votre flash externe
DESCRIPTION:&nbsp\;\nActivité annulée\n\n&nbsp\;\n\nVenez apprivoiser
 votre flash cobra et vous en faire un ami. \n\nVoici une idée du programme
 de la
 journée.\n·&nbsp\;&nbsp\;&nbsp\;&nbsp\;&nbsp\;&nbsp\;&nbsp\;Réglages du
 flash\, menu\, manuel\, ttl\, zoom
 …\n·&nbsp\;&nbsp\;&nbsp\;&nbsp\;&nbsp\;&nbsp\;&nbsp\;Mode TTL
 (Ninja)\n·&nbsp\;&nbsp\;&nbsp\;&nbsp\;&nbsp\;&nbsp\;&nbsp\;Double triangle
 d’exposition\n·&nbsp\;&nbsp\;&nbsp\;&nbsp\;&nbsp\;&nbsp\;&nbsp\;Explicat
 ion lumière ambiante vs flash et comment les contrôler (vitesse\,
 ouverture\, iso\, intensité du
 flash)\n·&nbsp\;&nbsp\;&nbsp\;&nbsp\;&nbsp\;&nbsp\;&nbsp\;Explication de
 la vitesse synchro\, high speed
 …\n·&nbsp\;&nbsp\;&nbsp\;&nbsp\;&nbsp\;&nbsp\;&nbsp\;Posemètre
 (lumière réfléchie vs source de
 lumière)\n·&nbsp\;&nbsp\;&nbsp\;&nbsp\;&nbsp\;&nbsp\;&nbsp\;Remote
 contrôle TTL ou non (Poket wizard
 ….)\n·&nbsp\;&nbsp\;&nbsp\;&nbsp\;&nbsp\;&nbsp\;&nbsp\;Pratique\nDîner\
 n·&nbsp\;&nbsp\;&nbsp\;&nbsp\;&nbsp\;&nbsp\;&nbsp\;Modification de la
 lumière (bouncer plafond\, mur
 …)\n·&nbsp\;&nbsp\;&nbsp\;&nbsp\;&nbsp\;&nbsp\;&nbsp\;Diffuseur
 (l’arsenal)\n·&nbsp\;&nbsp\;&nbsp\;&nbsp\;&nbsp\;&nbsp\;&nbsp\;La
 couleur de la
 lumière\n·&nbsp\;&nbsp\;&nbsp\;&nbsp\;&nbsp\;&nbsp\;&nbsp\;Flash
 déporté\n·&nbsp\;&nbsp\;&nbsp\;&nbsp\;&nbsp\;&nbsp\;&nbsp\;Photo à
 contre jour\, utiliser le soleil comme rim
 light\n·&nbsp\;&nbsp\;&nbsp\;&nbsp\;&nbsp\;&nbsp\;&nbsp\;Deux flashs
 (explication des
 zones)\n·&nbsp\;&nbsp\;&nbsp\;&nbsp\;&nbsp\;&nbsp\;&nbsp\;Pratique
 (exercices)\nMatériel requis des participants:\n\n 	\n\n 	Caméra et flash
 externe ( avec des piles chargées)&nbsp\;\n 	Masque et passeport
 vaccinal\n 	Lunch pour le midi\n\n\n\nPour information:
 studio@clubdimension.org\n\n16 places disponibles:\n\n 	\n\n 	Billet membre
 régulier disponible à partir du 15 janvier 2022\n 	Billet membre abonné
 disponible à partir du 12 février 2022\n\n\n
END:VEVENT
END:VCALENDAR