BEGIN:VCALENDAR
VERSION:2.0
PRODID:-//wp-events-plugin.com//7.2.3.1//EN
TZID:America/New_York
X-WR-TIMEZONE:America/New_York
BEGIN:VEVENT
UID:765@clubdimension.org
DTSTART:20230325T140000Z
DTEND:20230325T210000Z
DTSTAMP:20230302T004547Z
URL:https://www.clubdimension.org/evenements/activite-studio-a-venir-5/
SUMMARY:Atelier de formation : Éléments clés d'une séance de photo
 studio
DESCRIPTION:Le comité studio vous offre un nouvel atelier sur les
 éléments clés d'une séance photo en studio\, bâti par les membres du
 comité studio juste pour les membres du club de photo Dimension.\n\nLes
 sujets abordés sont:\n\n&nbsp\; - La planification d'une séance
 photo\n\n&nbsp\; - La gestion de la lumière\n\n&nbsp\; - Effets des
 plans\, perspectives et focales\n\n&nbsp\; - Analyse de la physionomie du
 modèle\n\n&nbsp\; - Poses de femmes\n\n&nbsp\; - Poses d'hommes\n\n&nbsp\;
 - Poses de groupes.\n\nUne journée bien remplie vous attend:&nbsp\;
 théorie\, démonstration et mise en pratique.\n\nIMPORTANT:&nbsp\; Les
 pré-requis pour assister à cet atelier sont :\n\n&nbsp\; - Avoir suivi
 l'atelier d'introduction au studio photo\n\n&nbsp\; - Posséder un appareil
 photo avec sabot de flash et mode manuel.\n\n&nbsp\;\n\nSi question ou
 commentaire:&nbsp\; studio@clubdimension.org
CATEGORIES:Activités,Ateliers
LOCATION:Ateliers du Réacteur\, 731\, rue St-Vallier Est\, Québec\,
 Québec\, G1K 3P9\, Canada
X-APPLE-STRUCTURED-LOCATION;VALUE=URI;X-ADDRESS=731\, rue St-Vallier Est\,
 Québec\, Québec\, G1K 3P9\, Canada;X-APPLE-RADIUS=100;X-TITLE=Ateliers du
 Réacteur:geo:0,0
END:VEVENT
END:VCALENDAR