BEGIN:VCALENDAR
VERSION:2.0
PRODID:-//wp-events-plugin.com//7.2.3.1//EN
TZID:America/New_York
X-WR-TIMEZONE:America/New_York
BEGIN:VEVENT
UID:811@clubdimension.org
DTSTART;VALUE=DATE:20231012
DTEND;VALUE=DATE:20231022
DTSTAMP:20230926T125038Z
URL:https://www.clubdimension.org/evenements/activite-sameliorer-ensemble-
 2/
SUMMARY:Activité : S'améliorer ensemble
DESCRIPTION:Vous désirez approfondir un sujet photographique durant la
 prochaine saison et échanger avec des camarades
 photographes&nbsp\;?\n\nL’activité S’AMÉLIORER ENSEMBLE pourrait vous
 intéresser. Quatre groupes d’environ 7 personnes seront formés offrant
 chacun un sujet différent :\n\n 	Photo contemplative\n 	Macrophotographie
 et proxiphotographie\n 	Photographie animalière\n 	Photographie en noir et
 blanc\n\nCette activité &nbsp\;se déroule de&nbsp\;novembre à
 avril&nbsp\;à raison d'une rencontre par mois en mode virtuel et de
 plusieurs sorties déterminées par le groupe.\n\nPour vous inscrire\,
 cliquez dans le calendrier à la date du&nbsp\;12 octobre. Pour les membres
 virtuels les inscriptions se feront le 20 et 21 octobre\, s'il reste de la
 place. Ensuite\, remplissez le billet en mentionnant dans la section
 commentaire vos 2 choix. Durant la semaine du 30 octobre\, le comité
 organisateur vous informera du groupe dont vous ferez partie.\n\nBonne
 saison photo !
CATEGORIES:Activités
END:VEVENT
END:VCALENDAR