BEGIN:VCALENDAR
VERSION:2.0
PRODID:-//wp-events-plugin.com//7.2.3.1//EN
TZID:America/New_York
X-WR-TIMEZONE:America/New_York
BEGIN:VEVENT
UID:767@clubdimension.org
DTSTART:20221008T050000Z
DTEND:20221008T050000Z
DTSTAMP:20221005T182135Z
URL:https://www.clubdimension.org/evenements/__trashed/
SUMMARY:test de formulaire - Jean Genest
DESCRIPTION:Il ne s'agit que d'un test et ne constitue pas un
 événement&nbsp\;\n\nJean Genest\n\n&nbsp\;\n\n2022-10-05\n\n&nbsp\;
END:VEVENT
END:VCALENDAR