BEGIN:VCALENDAR
VERSION:2.0
PRODID:-//wp-events-plugin.com//7.2.3.1//EN
TZID:America/New_York
X-WR-TIMEZONE:America/New_York
BEGIN:VEVENT
UID:855@clubdimension.org
DTSTART;TZID=America/New_York:20240911T190000
DTEND;TZID=America/New_York:20240911T210000
DTSTAMP:20240819T212059Z
URL:https://www.clubdimension.org/evenements/11-septembre-2024-premiere-re
 ncontre-reguliere-du-club/
SUMMARY:11 septembre 2024 - Première rencontre régulière du club
DESCRIPTION:Ces images qui nous ressemblent\n\nNous sommes fébriles et
 enthousiastes à l'idée de tous se revoir pour l'ouverture de la saison
 2024-2025 qui aura lieu uniquement en présentiel&nbsp\;le mercredi 11
 septembre à 19 h au Centre des loisirs Mgr de Laval à Beauport.\n\nMais
 d'ici là\, nous vous invitons à sélectionner votre meilleure photo de
 l'été qui sera partagée sous forme d'exposition lors de la première
 rencontre de la saison. De belles retrouvailles en perspective!\n\nCette
 exposition\, sous le signe de la simplicité\, se veut très conviviale. Ce
 sera l’occasion d’échanger entre photographes et d’accueillir les
 nouveaux membres.\n\nInformations techniques:\n\n 	Nombre: une photo ou un
 diptyque ou un triptyque sur un seul carton\n 	Carton: noir ou blanc de 16
 X 20 pouces (il peut être recyclé d’une ancienne exposition)\n
 	Dimension photo: à votre choix\n 	Titre et signature: sur le carton ou
 sur la/les photos\n 	Sujet: votre photo préférée de l'été prise entre
 le 16 mai et le 11 septembre 2024&nbsp\;\n 	Remise du montage sur carton:
 le 11 septembre à 18 h 30\n\nAu plaisir de vous y retrouver!
CATEGORIES:Activités
END:VEVENT
BEGIN:VTIMEZONE
TZID:America/New_York
X-LIC-LOCATION:America/New_York
BEGIN:DAYLIGHT
DTSTART:20240310T030000
TZOFFSETFROM:-0500
TZOFFSETTO:-0400
TZNAME:EDT
END:DAYLIGHT
END:VTIMEZONE
END:VCALENDAR